BEGIN:VCALENDAR
VERSION:2.0
PRODID:-//AMCP - ECPv4.9.6//NONSGML v1.0//EN
CALSCALE:GREGORIAN
METHOD:PUBLISH
X-WR-CALNAME:AMCP
X-ORIGINAL-URL:https://amcpujaut.fr
X-WR-CALDESC:Évènements pour AMCP
BEGIN:VTIMEZONE
TZID:"Europe/Paris"
BEGIN:DAYLIGHT
TZOFFSETFROM:+0100
TZOFFSETTO:+0200
TZNAME:CEST
DTSTART:20230326T010000
END:DAYLIGHT
BEGIN:STANDARD
TZOFFSETFROM:+0200
TZOFFSETTO:+0100
TZNAME:CET
DTSTART:20231029T010000
END:STANDARD
END:VTIMEZONE
BEGIN:VEVENT
DTSTART;VALUE=DATE:20230514
DTEND;VALUE=DATE:20230515
DTSTAMP:20260420T125212
CREATED:20190412T172838Z
LAST-MODIFIED:20230511T144951Z
UID:391-1684022400-1684108799@amcpujaut.fr
SUMMARY:Concours F3A / Annuler
DESCRIPTION:Lieu: Pujaut. le 14 mai (annuler mauvaise météo) \nConcours de voltige  \n
URL:https://amcpujaut.fr/event/concours-f3a/
LOCATION:PUJAUT
END:VEVENT
END:VCALENDAR